BEGIN:VCALENDAR
VERSION:2.0
PRODID:-//jEvents 1.5 for Joomla//EN
BEGIN:VEVENT
UID:75cd9288ea02c77252dbd008b2f8d9d6
CATEGORIES:Δημοπρασίες
SUMMARY:ΑΠΟΚΑΤ.ΖΗΜΙΩΝ ...ΔΗΜΟ ΜΟΥΖΑΚΙΟΥ
LOCATION:ΔΗΜΟΣ ΜΟΥΖΑΚΙΟΥ
DESCRIPTION;ENCODING=QUOTED-PRINTABLE:\n\nΑΠΟΚΑΤΑΣΤΑΣΗ ΖΗΜΙΩΝ ΑΠΟ ΘΕΟΜΗΝΙΑ ΤΟΝ Ι
 ΑΝΟΥΑΡΙΟ ΤΟΥ 2019 ΣΤΟ ΔΗΜΟ ΜΟΥΖΑΚΙΟΥ\n
CONTACT:24453-50124
X-EXTRAINFO:ΠΡΟΫΠΟΛΟΓΙΣΜΟΣ: 450.000 ΕΥΡΩ
ΠΤΥΧΙΑ: ΟΔΟ-ΥΔΡ
DTSTAMP:20260421T225456
DTSTART:20211005T020000
DTEND:20211005T020000
SEQUENCE:0
TRANSP:OPAQUE
END:VEVENT
END:VCALENDAR