BEGIN:VCALENDAR
VERSION:2.0
PRODID:-//jEvents 1.5 for Joomla//EN
BEGIN:VEVENT
UID:0f551d595aa9c29a5a10237c231353e3
CATEGORIES:Δημοπρασίες
SUMMARY:ΣΧΕΔΙΟ ΕΝΕΡΓ.ΑΝΑΒΑΘΜ...2ου ΔΗΜ.ΣΧΟΛΕΙΟΥ ΚΑΡΔΙΤΣΑΣ
LOCATION:ΔΗΜΟΣ ΚΑΡΔΙΤΣΑΣ
DESCRIPTION;ENCODING=QUOTED-PRINTABLE:\n\nΣΧΕΔΙΟ ΕΝΕΡΓΕΙΑΚΗΣ ΑΝΑΒΑΘΜΙΣΗΣ ΚΑΙ ΕΞ
 ΙΚΟΝΟΜΗΣΗΣ ΕΝΕΡΓΕΙΑΣ ΣΤΟ ΥΦΙΣΤΑΜΕΝΟ ΣΧΟ
 ΛΙΚΟ ΚΤΙΡΙΟ ΤΟΥ 2ου ΔΗΜΟΤΙΚΟΥ ΣΧΟΛΕΙΟΥ ΚΑ
 ΡΔΙΤΣΑΣ\n
CONTACT:24413-50807
X-EXTRAINFO:ΠΡΟΫΠΟΛΟΓΙΣΜΟΣ: 250.000 ΕΥΡΩ
ΠΤΥΧΙΑ: ΟΙΚ-ΗΛΜ

DTSTAMP:20260422T002630
DTSTART:20210922T150000
DTEND:20210922T150000
SEQUENCE:0
TRANSP:OPAQUE
END:VEVENT
END:VCALENDAR