BEGIN:VCALENDAR
VERSION:2.0
PRODID:-//jEvents 1.5 for Joomla//EN
BEGIN:VEVENT
UID:3cc56b38befd13056155da77ee447692
CATEGORIES:Δημοπρασίες
SUMMARY:ΔΙΑΜΟΡΦ.ΒΟΡ.ΕΙΣΟΔΟΥ ΣΟΦΑΔΩΝ
LOCATION:ΔΗΜΟΣ ΣΟΦΑΔΩΝ
DESCRIPTION;ENCODING=QUOTED-PRINTABLE:\n\nΔΙΑΜΟΡΦΩΣΗ ΒΟΡΕΙΑΣ ΕΙΣΟΔΟΥ ΔΚ ΣΟΦΑΔΩΝ\
 n
CONTACT:2443-353229
X-EXTRAINFO:ΠΡΟΫΠΟΛΟΓΙΣΜΟΣ: 202.500 ΕΥΡΩ
ΠΤΥΧΙΑ: Α2 ΟΔΟ - Α1 ΗΛΜ
DTSTAMP:20260421T225348
DTSTART:20211004T130000
DTEND:20211004T130000
SEQUENCE:0
TRANSP:OPAQUE
END:VEVENT
END:VCALENDAR