BEGIN:VCALENDAR
VERSION:2.0
PRODID:-//jEvents 1.5 for Joomla//EN
BEGIN:VEVENT
UID:b6948a70f3d8946197dc01c0eabe3d71
CATEGORIES:Δημοπρασίες
SUMMARY:ΑΝΤΙΠΛ.ΠΡΟΣΤΑΣΙΑ ΟΙΚΙΣΜΟΥ ΤΣΙΓΓΑΝΩΝ...
LOCATION:ΔΗΜΟΣ ΣΟΦΑΔΩΝ
DESCRIPTION;ENCODING=QUOTED-PRINTABLE:\n\nΑΝΤΙΠΛΗΜΜΥΡΙΚΗ ΠΡΟΣΤΑΣΙΑ ΟΙΚΙΣΜΟΥ ΤΣΙ
 ΓΓΑΝΩΝ-ΡΟΜΑ ΣΤΟ ΔΗΜΟ ΣΟΦΑΔΩΝ\n
CONTACT:2443-353229
X-EXTRAINFO:ΠΡΟΫΠΟΛΟΓΙΣΜΟΣ: 550.000 ΕΥΡΩ
ΠΤΥΧΙΑ: Α2 ΟΔΟ - Α2 ΥΔΡ
DTSTAMP:20260422T002604
DTSTART:20210920T130000
DTEND:20210920T130000
SEQUENCE:0
TRANSP:OPAQUE
END:VEVENT
END:VCALENDAR