BEGIN:VCALENDAR
VERSION:2.0
PRODID:-//jEvents 1.5 for Joomla//EN
BEGIN:VEVENT
UID:c875ec58f18aaff265903cba7d4ccd0a
CATEGORIES:Δημοπρασίες
SUMMARY:ΕΝΕΡΓ.& ΑΙΣΘΗΤ. ΑΝΑΒΑΘΜ....ΦΩΤΙΣΜΟΥ ΣΤΗΝ ΚΑΡΔΙΤΣΑ...
LOCATION:ΔΗΜΟΣ ΚΑΡΔΙΤΣΑΣ
DESCRIPTION;ENCODING=QUOTED-PRINTABLE:\n\nΕΝΕΡΓΕΙΑΚΗ ΚΑΙ ΑΙΣΘΗΤΙΚΗ ΑΝΑΒΑΘΜΙΣΗ Δ
 ΚΤΥΟΥ ΔΗΜΟΤΙΚΟΥ ΦΩΤΙΣΜΟΥ ΣΤΗΝ ΚΑΡΔΙΤΣΑ (
 ΛΟΓΩ ΥΦΙΣΤΑΜΕΝΗΣ ΥΠΟΓΕΙΟΠΟΙΗΣΗΣ)\n
CONTACT:24413-54877
X-EXTRAINFO:ΠΡΟΫΠΟΛΟΓΙΣΜΟΣ: 288.840 ΕΥΡΩ
ΠΤΥΧΙΑ: ΗΛΜ
DTSTAMP:20260426T005348
DTSTART:20210623T150000
DTEND:20210623T150000
SEQUENCE:0
TRANSP:OPAQUE
END:VEVENT
END:VCALENDAR