BEGIN:VCALENDAR
VERSION:2.0
PRODID:-//jEvents 1.5 for Joomla//EN
BEGIN:VEVENT
UID:907a90ed5b2d6066248000a122e1ddcf
CATEGORIES:Δημοπρασίες
SUMMARY:ΒΕΛΤ.ΑΘΛΗΤ.ΕΓΚΑΤ.ΔΗΜΟΥ ΚΑΡΔΙΤΣΑΣ...
LOCATION:ΔΗΜΟΣ ΚΑΡΔΙΤΣΑΣ
DESCRIPTION;ENCODING=QUOTED-PRINTABLE:\n\nΒΕΛΤΙΩΣΕΙΣ ΑΘΛΗΤΙΚΩΝ ΕΓΚΑΤΑΣΤΑΣΕΩΝ ΔΗ
 ΜΟΥ ΚΑΡΔΙΤΣΑΣ - ΑΝΑΔΕΙΞΗ ΤΩΝ ΑΘΛΗΤΙΚΩΝ ΧΩ
 ΡΩΝ ΔΗΜΟΥ ΚΑΡΔΙΤΣΑΣ\n
CONTACT:2441354874
X-EXTRAINFO:ΠΡΟΫΠΟΛΟΓΙΣΜΟΣ: 630.000 ΕΥΡΩ
ΠΤΥΧΙΑ: ΟΙΚ-ΗΛΜ-ΟΔΟ
DTSTAMP:20260426T005353
DTSTART:20210609T150000
DTEND:20210609T170000
SEQUENCE:0
TRANSP:OPAQUE
END:VEVENT
END:VCALENDAR