BEGIN:VCALENDAR
VERSION:2.0
PRODID:-//jEvents 1.5 for Joomla//EN
BEGIN:VEVENT
UID:b0662e1643ec6ae259c61804a8e86bb3
CATEGORIES:Δημοπρασίες
SUMMARY:ΒΕΛΤ.ΠΡΟΣΒΑΣΗΣ ΣΕ ΓΕΩΡΓ.& ΚΤΗΝΟΤΡ....
LOCATION:ΔΗΜΟΣ ΚΑΡΔΙΤΣΑΣ
DESCRIPTION;ENCODING=QUOTED-PRINTABLE:\n\nΒΕΛΤΙΩΣΗ ΠΡΟΣΒΑΣΗΣ ΣΕ ΓΕΩΡΓΙΚΕΣ ΚΑΙ ΚΤ
 ΗΝΟΤΡΟΦΙΚΕΣ ΕΚΜΕΤΑΛΛΕΥΣΕΙΣ ΣΤΟ ΔΗΜΟ ΚΑΡ
 ΙΤΣΑΣ\n
CONTACT:24413-54877
X-EXTRAINFO:ΠΡΟΫΠΟΛΟΓΙΣΜΟΣ: 1.736.000 ΕΥΡΩ
ΠΤΥΧΙΑ: ΟΔΟ
DTSTAMP:20260426T005347
DTSTART:20210614T100000
DTEND:20210614T100000
SEQUENCE:0
TRANSP:OPAQUE
END:VEVENT
END:VCALENDAR