BEGIN:VCALENDAR
VERSION:2.0
PRODID:-//jEvents 1.5 for Joomla//EN
BEGIN:VEVENT
UID:660e44c4f4b6d61bd4020c1074bd93ad
CATEGORIES:Δημοπρασίες
SUMMARY:ΔΙΑΜΟΡΦ.ΠΟΔΗΛΑΤΟΔΡΟΜΟΥ...
LOCATION:ΔΗΜΟΣ ΚΑΡΔΙΤΣΑΣ
DESCRIPTION;ENCODING=QUOTED-PRINTABLE:\n\nΔΙΑΜΟΡΦΩΣΗ ΠΟΔΗΛΑΤΟΔΡΟΜΟΥ ΣΤΗΝ ΟΔΟ ΗΡ
 ΩΝ ΠΟΛΥΤΕΧΝΕΙΟΥ\n
CONTACT:24413-50807
X-EXTRAINFO:ΠΡΟΫΠΟΛΟΓΙΣΜΟΣ: 660.000 ΕΥΡΩ
ΠΤΥΧΙΑ: ΟΙΚ, ΗΛΜ
DTSTAMP:20260422T081133
DTSTART:20210427T150000
DTEND:20210427T150000
SEQUENCE:0
TRANSP:OPAQUE
END:VEVENT
END:VCALENDAR