BEGIN:VCALENDAR
VERSION:2.0
PRODID:-//jEvents 1.5 for Joomla//EN
BEGIN:VEVENT
UID:1ef15faaea7ae7eeea231bbe55c38fb1
CATEGORIES:Δημοπρασίες
SUMMARY:ΑΝΑΒΑΘΜ.ΠΑΙΔΙΚΟΥ ΣΤΑΘΜΟΥ ΠΑΛΑΜΑ
LOCATION:ΔΗΜΟΣ ΠΑΛΑΜΑ
DESCRIPTION;ENCODING=QUOTED-PRINTABLE:\n\nΑΝΑΒΑΘΜΙΣΗ ΠΑΙΔΙΚΟΥ ΣΤΑΘΜΟΥ ΠΑΛΑΜΑ\n
CONTACT:24443-50141
X-EXTRAINFO:ΠΡΟΫΠΟΛΟΓΙΣΜΟΣ: 80.000 ΕΥΡΩ
ΠΤΥΧΙΑ:ΟΙΚ,ΗΛΜ
DTSTAMP:20260422T082024
DTSTART:20210422T150000
DTEND:20210422T150000
SEQUENCE:0
TRANSP:OPAQUE
END:VEVENT
END:VCALENDAR