BEGIN:VCALENDAR
VERSION:2.0
PRODID:-//jEvents 1.5 for Joomla//EN
BEGIN:VEVENT
UID:0ca2ebd57503e52bcf90d0c0d1af24b2
CATEGORIES:Δημοπρασίες
SUMMARY:ΑΝΟΡΥΞΗ-ΑΝΤΙΚΑΤ....ΚΑΛΑΜΠΟΚΙΕΣ
LOCATION:ΔΗΜΟΣ ΜΟΥΖΑΚΙΟΥ
DESCRIPTION;ENCODING=QUOTED-PRINTABLE:\n\nΑΝΟΡΥΞΗ - ΑΝΤΙΚΑΤΑΣΤΑΣΗ ΑΡΔΕΥΤΙΚΗΣ ΓΕΩ
 ΤΡΗΣΗΣ ΤΚ ΠΑΛΑΙΟΧΩΡΙΟΥ ΣΤΗ ΘΕΣΗ ΚΑΛΑΜΠΟΚ
 ΙΕΣ\n
CONTACT:24453-50125
X-EXTRAINFO:ΠΡΟΫΠΟΛΟΓΙΣΜΟΣ: 20.000 ΕΥΡΩ
ΠΤΥΧΙΑ: ΓΕΩΤΡ.
DTSTAMP:20260422T112542
DTSTART:20210218T100000
DTEND:20210218T100000
SEQUENCE:0
TRANSP:OPAQUE
END:VEVENT
END:VCALENDAR