BEGIN:VCALENDAR
VERSION:2.0
PRODID:-//jEvents 1.5 for Joomla//EN
BEGIN:VEVENT
UID:7ee00c7d91bd9fb5037324a0fa3abb0d
CATEGORIES:Δημοπρασίες
SUMMARY:ΚΕΝΤΡΟ ΚΟΙΝΩΝΙΚΩΝ ΔΡΑΣΤΗΡΙΟΤΗΤΩΝ ΚΑΡΔΙΤΣΑΣ
LOCATION:ΠΕΡΙΦΕΡΕΙΑ ΘΕΣΣΑΛΙΑΣ
DESCRIPTION;ENCODING=QUOTED-PRINTABLE:\n\n"ΚΕΝΤΡΟ ΚΟΙΝΩΝΙΚΩΝ ΔΡΑΣΤΗΡΙΟΤΗΤΩΝ ΚΑΡ
 ΙΤΣΑΣ" ΥΠΟΕΡΓΟ 1 "ΚΑΤΑΣΚΕΥΗ ΚΤΗΡΙΟΥ"\n
CONTACT:24413-54934
X-EXTRAINFO:ΠΡΟΫΠΟΛΟΓΙΣΜΟΣ: 3.399.133,63 ΕΥΡΩ
ΠΤΥΧΙΑ: ΟΙΚ 3Η, ΗΛΜ 2Η 
DTSTAMP:20260422T094204
DTSTART:20210309T100000
DTEND:20210309T100000
SEQUENCE:0
TRANSP:OPAQUE
END:VEVENT
END:VCALENDAR