BEGIN:VCALENDAR
VERSION:2.0
PRODID:-//jEvents 1.5 for Joomla//EN
BEGIN:VEVENT
UID:c046a2d914b13f5f7585f1c01cbb5f87
CATEGORIES:Δημοπρασίες
SUMMARY:ΒΕΛΤ.& ΣΥΝΤ. ΕΡΓΩΝ ΤΕΧΝ.ΥΠΟΔΟΜΩΝ
LOCATION:ΔΗΜΟΣ ΑΡΓΙΘΕΑΣ
DESCRIPTION;ENCODING=QUOTED-PRINTABLE:\n\nΒΕΛΤΙΩΣΗ ΚΑΙ ΣΥΝΤΗΡΗΣΗ ΕΡΓΩΝ ΤΕΧΝΙΚΩΝ 
 ΥΠΟΔΟΜΩΝ\n
CONTACT:24453-50410
X-EXTRAINFO:ΠΡΟΫΠΟΛΟΓΙΣΜΟΣ: 229.100 ΕΥΡΩ
ΠΤΥΧΙΑ: ΟΔΟ
DTSTAMP:20260422T131112
DTSTART:20210112T150000
DTEND:20210112T150000
SEQUENCE:0
TRANSP:OPAQUE
END:VEVENT
END:VCALENDAR