BEGIN:VCALENDAR
VERSION:2.0
PRODID:-//jEvents 1.5 for Joomla//EN
BEGIN:VEVENT
UID:0a7347b22cf5b386b63ecaf2c5376a6e
CATEGORIES:Δημοπρασίες
SUMMARY:ΚΑΤΑΣΚ.ΟΔΟΥ ΠΡΟΣ ΚΑΣΤΡΟ ΦΑΝΑΡΙΟΥ...
LOCATION:ΔΗΜΟΣ ΜΟΥΖΑΚΙΟΥ
DESCRIPTION;ENCODING=QUOTED-PRINTABLE:ΚΑΤΑΣΚΕΥΗ ΟΔΟΥ ΠΡΟΣ ΚΑΣΤΡΟ ΦΑΝΑΡΙΟΥ (Β' Φ
 ΣΗ)
CONTACT:24453-50124
X-EXTRAINFO:ΠΡΟΫΠΟΛΟΓΙΣΜΟΣ: 251.000 ΕΥΡΩ
ΠΤΥΧΙΑ:ΟΙΚ & ΟΔΟ
DTSTAMP:20260422T131113
DTSTART:20210112T020000
DTEND:20210112T020000
SEQUENCE:0
TRANSP:OPAQUE
END:VEVENT
END:VCALENDAR