BEGIN:VCALENDAR
VERSION:2.0
PRODID:-//jEvents 1.5 for Joomla//EN
BEGIN:VEVENT
UID:4584c6ad63d5e5e05bd5a14e40b5cfe5
CATEGORIES:Δημοπρασίες
SUMMARY:ΚΑΤΑΣΚ.ΤΜΗΜ.ΑΠΟ ΕΞΟΔΟ ΠΡΟΣ ΑΓΙΟΠΗΓΗ...
LOCATION:ΠΕΡΙΦΕΡΕΙΑ ΘΕΣΣΑΛΙΑΣ
DESCRIPTION;ENCODING=QUOTED-PRINTABLE:\n\nΠΑΡΑΚΑΜΨΗ ΠΟΛΕΩΣ ΚΑΡΔΙΤΣΑΣ: ΚΑΤΑΣΚΕΥΗ 
 ΤΜΗΜΑΤΟΣ ΑΠΟ ΕΞΟΔΟ ΠΡΟΣ ΑΓΙΟΠΗΓΗ ΕΩΣ ΕΞΟ
 Ο ΠΡΟΣ ΜΗΤΡΟΠΟΛΗ\n
CONTACT:2413-511216
X-EXTRAINFO:ΠΡΟΫΠΟΛΟΓΙΣΜΟΣ: 7.000.000 ΕΥΡΩ
ΠΤΥΧΙΑ: ΟΔΟ
DTSTAMP:20260424T123532
DTSTART:20210118T143000
DTEND:20210118T143000
SEQUENCE:0
TRANSP:OPAQUE
END:VEVENT
END:VCALENDAR