BEGIN:VCALENDAR
VERSION:2.0
PRODID:-//jEvents 1.5 for Joomla//EN
BEGIN:VEVENT
UID:96af48110d8531d98f7b1a7ad08c5f11
CATEGORIES:Δημοπρασίες
SUMMARY:ΑΙΣΘΗΤ...ΠΑΡΕΜΒΑΣΕΙΣ...ΑΝΑΒΡΑΣ
LOCATION:ΔΗΜΟΣ ΣΟΦΑΔΩΝ
DESCRIPTION;ENCODING=QUOTED-PRINTABLE:\n\nΑΙΣΘΗΤΙΚΕΣ ΚΑΙ ΛΕΙΤΟΥΡΓΙΚΕΣ ΠΑΡΕΜΒΑΣΕ
 ΙΣ ΣΤΗΝ ΠΛΑΤΕΙΑ ΤΚ ΑΝΑΒΡΑΣ\n
CONTACT:2443-353229
X-EXTRAINFO:ΠΡΟΫΠΟΛΟΓΙΣΜΟΣ: 315.000 ΕΥΡΩ
ΠΤΥΧΙΑ: Α2 ΟΔΟ - Α1 ΠΡΑΣ
DTSTAMP:20260424T142720
DTSTART:20201123T130000
DTEND:20201123T130000
SEQUENCE:0
TRANSP:OPAQUE
END:VEVENT
END:VCALENDAR