BEGIN:VCALENDAR
VERSION:2.0
PRODID:-//jEvents 1.5 for Joomla//EN
BEGIN:VEVENT
UID:b36f76ecfa038bac62baed735b619231
CATEGORIES:Δημοπρασίες
SUMMARY:ΑΡΔΕΥΤ.ΑΝΤΛΙΟΣΤ.ΜΕΛΙΣΣΟΧΩΡΙΟΥ...
LOCATION:ΔΗΜΟΣ ΣΟΦΑΔΩΝ
DESCRIPTION;ENCODING=QUOTED-PRINTABLE:\n\nΑΡΔΕΥΤΙΚΟ ΑΝΤΛΙΟΣΤΑΣΙΟ ΜΕΛΙΣΣΟΧΩΡΙΟΥ 
 ΔΗΜΟΥ ΣΟΦΑΔΩΝ\n
CONTACT:2443-353200
X-EXTRAINFO:ΠΡΟΫΠΟΛΟΓΙΣΜΟΣ: 1.400.000 ΕΥΡΩ
ΠΤΥΧΙΑ: 2Η ΥΔΡ Ή ΗΛΜ
DTSTAMP:20260424T140408
DTSTART:20201207T130000
DTEND:20201207T130000
SEQUENCE:0
TRANSP:OPAQUE
END:VEVENT
END:VCALENDAR