BEGIN:VCALENDAR
VERSION:2.0
PRODID:-//jEvents 1.5 for Joomla//EN
BEGIN:VEVENT
UID:44a4d88d9888e187ab89bcb1b0a97038
CATEGORIES:Δημοπρασίες
SUMMARY:ΤΕΧΝ.ΕΡΓΑ...ΕΚΤΡΟΦΕΙΟΥ ΘΗΡΑΜΑΤΩΝ..
LOCATION:ΔΑΣΑΡΧΕΙΟ ΜΟΥΖΑΚΙΟΥ
DESCRIPTION;ENCODING=QUOTED-PRINTABLE:\n\nΤΕΧΝΙΚΑ ΕΡΓΑ - ΣΥΝΤΗΡΗΣΗ ΕΓΚΑΤΑΣΤΑΣΕΩΝ
  ΤΟΥ ΕΚΤΡΟΦΕΙΟΥ ΘΗΡΑΜΑΤΩΝ "ΜΠΑΛΑΝΟΥ"\n
CONTACT:24450-49157
X-EXTRAINFO:ΠΡΟΫΠΟΛΟΓΙΣΜΟΣ: 19.562,36 ΕΥΡΩ
ΠΤΥΧΙΑ: Α1 ΠΡΑΣ
DTSTAMP:20260422T182104
DTSTART:20201027T100000
DTEND:20201027T100000
SEQUENCE:0
TRANSP:OPAQUE
END:VEVENT
END:VCALENDAR