BEGIN:VCALENDAR
VERSION:2.0
PRODID:-//jEvents 1.5 for Joomla//EN
BEGIN:VEVENT
UID:abaddbe20e34b0129435cd247b0f5503
CATEGORIES:Δημοπρασίες
SUMMARY:ΕΣΩΤΕΡ.ΟΔΟΠΟΙΙΑ ΔΗΜΟΥ
LOCATION:ΔΗΜΟΣ ΠΛΑΣΤΗΡΑ
DESCRIPTION;ENCODING=QUOTED-PRINTABLE:\n\nΕΣΩΤΕΡΙΚΗ ΟΔΟΠΟΙΙΑ ΔΗΜΟΥ\n
CONTACT:24413-52221
X-EXTRAINFO:ΠΡΟΫΠΟΛΟΓΙΣΜΟΣ: 189.516,13 πλεον ΦΠΑ
ΠΤΥΧΙΑ: Α2 ΟΔΟ

DTSTAMP:20260422T180327
DTSTART:20201006T000000
DTEND:20201006T235959
SEQUENCE:0
TRANSP:OPAQUE
END:VEVENT
END:VCALENDAR