BEGIN:VCALENDAR
VERSION:2.0
PRODID:-//jEvents 1.5 for Joomla//EN
BEGIN:VEVENT
UID:c580373e36c6b4c08adcc0d2c7ec1763
CATEGORIES:Δημοπρασίες
SUMMARY:ΑΠΟΚΑΤ.ΟΔΟΣΤΡ....ΠΕ ΚΑΡΔΙΤΣΑΣ
LOCATION:Δ.Τ.Ε.Π.Ε. ΚΑΡΔΙΤΣΑΣ
DESCRIPTION;ENCODING=QUOTED-PRINTABLE:ΑΠΟΚΑΤΑΣΤΑΣΗ ΟΔΟΣΤΡΩΜΑΤΟΣ ΑΣΦΑΛΤΟΣΤΡΩΜ
 ΝΩΝ ΔΡΟΜΩΝ ΑΡΜΟΔΙΟΤΗΤΑΣ ΠΕ ΚΑΡΔΙΤΣΑΣ
CONTACT:24413-54903
X-EXTRAINFO:ΠΡΟΫΠΟΛΟΓΙΣΜΟΣ: 3.000.000 ΕΥΡΩ
ΠΤΥΧΙΑ: 3Η ΟΔΟ
DTSTAMP:20260422T200055
DTSTART:20200929T100000
DTEND:20200929T100000
SEQUENCE:0
TRANSP:OPAQUE
END:VEVENT
END:VCALENDAR