BEGIN:VCALENDAR
VERSION:2.0
PRODID:-//jEvents 1.5 for Joomla//EN
BEGIN:VEVENT
UID:bf09f25cebc1dd2be53244ad4865abf3
CATEGORIES:Δημοπρασίες
SUMMARY:ΑΠΟΧΙΟΝΙΣΜΟΙ ΟΔΙΚΟΥ ΔΙΚΤΥΟΥ ΑΝΑΤ.ΑΡΓΙΘΕΑΣ...
LOCATION:Δ.Τ.Ε.Π.Ε. ΚΑΡΔΙΤΣΑΣ
DESCRIPTION;ENCODING=QUOTED-PRINTABLE:\n\nΑΠΟΧΙΟΝΙΣΜΟΙ ΟΔΙΚΟΥ ΔΙΚΤΥΟΥ ΑΝΑΤΟΛΙΚΗ
 Σ ΑΡΓΙΘΕΑΣ Π.Ε. ΚΑΡΔΙΤΣΑΣ 2021\n
CONTACT:24413-54928
X-EXTRAINFO:ΠΡΟΫΠΟΛΟΓΙΣΜΟΣ: 74.000 ΕΥΡΩ

DTSTAMP:20260422T231505
DTSTART:20200729T100000
DTEND:20200729T100000
SEQUENCE:0
TRANSP:OPAQUE
END:VEVENT
END:VCALENDAR