BEGIN:VCALENDAR
VERSION:2.0
PRODID:-//jEvents 1.5 for Joomla//EN
BEGIN:VEVENT
UID:c45a887be2edb5f23dd47241a72f277b
CATEGORIES:Δημοπρασίες
SUMMARY:ΑΝΑΒΑΘΜ.ΠΑΙΔ.ΣΤΑΘΜΟΥ ΜΟΥΖΑΚΙΟΥ...
LOCATION:ΔΗΜΟΣ ΜΟΥΖΑΚΙΟΥ
DESCRIPTION;ENCODING=QUOTED-PRINTABLE:\n\nΑΝΑΒΑΘΜΙΣΗ ΠΑΙΔΙΚΟΥ ΣΤΑΘΜΟΥ ΜΟΥΖΑΚΙΟΥ
  ΔΗΜΟΥ ΜΟΥΖΑΚΙΟΥ\n
CONTACT:24453-50123
X-EXTRAINFO:ΠΡΟΫΠΟΛΟΓΙΣΜΟΣ: 33.000 ΕΥΡΩ
ΠΤΥΧΙΑ: ΟΙΚ
DTSTAMP:20260422T231329
DTSTART:20200721T100000
DTEND:20200721T170000
SEQUENCE:0
TRANSP:OPAQUE
END:VEVENT
END:VCALENDAR