BEGIN:VCALENDAR
VERSION:2.0
PRODID:-//jEvents 1.5 for Joomla//EN
BEGIN:VEVENT
UID:39b274474d1bded55064fb99040f724b
CATEGORIES:Δημοπρασίες
SUMMARY:ΑΝΤΙΚΑΤ.ΑΝΟΡΥΞΗΣ ΑΡΔΕΥΤ....ΤΣΑΠΟΥΡΝΙΑ
LOCATION:ΔΗΜΟΣ ΜΟΥΖΑΚΙΟΥ
DESCRIPTION;ENCODING=QUOTED-PRINTABLE:\n\nΑΝΤΙΚΑΤΑΣΤΑΣΗ ΑΝΟΡΥΞΗΣ ΑΡΔΕΥΤΙΚΗΣ ΓΕΩ
 ΤΡΗΣΗΣ ΜΑΓΟΥΛΑΣ ΣΤΗ ΘΕΣΗ ΤΣΑΠΟΥΡΝΙΑ\n
X-EXTRAINFO:ΠΡΟΫΠΟΛΟΓΙΣΜΟΣ: 15.483,87 ΕΥΡΩ
ΓΕΩΤΡΗΣΕΩΝ
DTSTAMP:20260422T231329
DTSTART:20200728T100000
DTEND:20200728T100000
SEQUENCE:0
TRANSP:OPAQUE
END:VEVENT
END:VCALENDAR