BEGIN:VCALENDAR
VERSION:2.0
PRODID:-//jEvents 1.5 for Joomla//EN
BEGIN:VEVENT
UID:8ddadc5d64b10f6325fba2df69f2cd35
CATEGORIES:Δημοπρασίες
SUMMARY:ΑΠΟΚΑΤ.ΑΓΡΟΤ.ΔΑΣΙΚΟΥ...ΔΙΚΤΥΟΥ
LOCATION:ΔΗΜΟΣ ΣΟΦΑΔΩΝ
DESCRIPTION;ENCODING=QUOTED-PRINTABLE:\n\nΑΠΟΚΑΤΑΣΤΑΣΗ ΑΓΡΟΤΙΚΟΥ ΔΑΣΙΚΟΥ ΚΑΙ ΔΗ
 ΟΤΙΚΟΥ ΟΔΙΚΟΥ ΔΙΚΤΥΟΥ\n
CONTACT:2443-353229
X-EXTRAINFO:ΠΡΟΎΠΟΛΟΓΙΣΜΟΣ: 150.000 ΕΥΡΩ
ΠΤΥΧΙΑ: ΟΔΟ
DTSTAMP:20260422T231404
DTSTART:20200713T130000
DTEND:20200713T130000
SEQUENCE:0
TRANSP:OPAQUE
END:VEVENT
END:VCALENDAR