BEGIN:VCALENDAR
VERSION:2.0
PRODID:-//jEvents 1.5 for Joomla//EN
BEGIN:VEVENT
UID:be4f275924e0032a3766a8501bc724f5
CATEGORIES:Δημοπρασίες
SUMMARY:ΚΑΤΑΣΚ.ΤΑΡΤΑΝ..ΣΟΦΑΔΩΝ
LOCATION:ΔΗΜΟΣ ΣΟΦΑΔΩΝ
DESCRIPTION;ENCODING=QUOTED-PRINTABLE:\n\nΚΑΤΑΣΚΕΥΗ ΤΑΡΤΑΝ ΣΤΟ ΔΗΜΟΤΙΚΟ ΣΤΑΔΙΟ Σ
 ΟΦΑΔΩΝ\n
CONTACT:2443-353229
X-EXTRAINFO:ΠΡΟΫΠΟΛΟΓΙΣΜΟΣ: 580.000 ΕΥΡΩ
ΠΤΥΧΙΑ: ΟΔΟ
DTSTAMP:20260424T140408
DTSTART:20200629T130000
DTEND:20200629T130000
SEQUENCE:0
TRANSP:OPAQUE
END:VEVENT
END:VCALENDAR