BEGIN:VCALENDAR
VERSION:2.0
PRODID:-//jEvents 1.5 for Joomla//EN
BEGIN:VEVENT
UID:6b9006e59d09cda0e34d62ca4e83eb43
CATEGORIES:Δημοπρασίες
SUMMARY:ΕΝΕΡΓ.ΑΝΑΒΑΘΜ.ΓΕΝ.ΛΥΚΕΙΟΥ ΜΟΥΖΑΚΙΟΥ
LOCATION:ΔΗΜΟΣ ΜΟΥΖΑΚΙΟΥ
DESCRIPTION;ENCODING=QUOTED-PRINTABLE:\n\nΕΝΕΡΓΕΙΑΚΗ ΑΝΑΒΑΘΜΙΣΗ ΓΕΝΙΚΟΥ ΛΥΚΕΙΟΥ
  ΜΟΥΖΑΚΙΟΥ\n
CONTACT:24450-43243
X-EXTRAINFO:ΠΡΟΫΠΟΛΟΓΙΣΜΟΣ: 380.000 ΕΥΡΩ
ΠΤΥΧΙΑ: ΟΙΚ, ΗΛΜ

DTSTAMP:20260423T005921
DTSTART:20200610T080000
DTEND:20200610T170000
SEQUENCE:0
TRANSP:OPAQUE
END:VEVENT
END:VCALENDAR