BEGIN:VCALENDAR
VERSION:2.0
PRODID:-//jEvents 1.5 for Joomla//EN
BEGIN:VEVENT
UID:f54492489e6bd28e6d53894bff2b852f
CATEGORIES:Δημοπρασίες
SUMMARY:ΣΥΝΤΗΡ.ΕΘΝΙΚ.& ΕΠΑΡΧ.ΔΙΚΤΥΟΥ...
LOCATION:Δ.Τ.Ε.Π.Ε. ΚΑΡΔΙΤΣΑΣ
DESCRIPTION;ENCODING=QUOTED-PRINTABLE:ΣΥΝΤΗΡΗΣΗ ΕΘΝΙΚΟΥ & ΕΠΑΡΧΙΑΚΟΥ ΔΙΚΤΥΟΥ Π
 ΡΙΦΕΡΕΙΑ ΘΕΣΣΑΛΙΑΣ - Π.Ε. ΚΑΡΔΙΤΣΑΣ 4' ΕΡΓ
 ΛΑΒΙΑ
CONTACT:24410-54903
X-EXTRAINFO:ΠΡΟΫΠΟΛΟΓΙΣΜΟΣ: 68.300 ΕΥΡΩ
ΠΤΥΧΙΑ: Α1 ΟΔΟ

DTSTAMP:20260423T062158
DTSTART:20200526T100000
DTEND:20200526T100000
SEQUENCE:0
TRANSP:OPAQUE
END:VEVENT
END:VCALENDAR