BEGIN:VCALENDAR
VERSION:2.0
PRODID:-//jEvents 1.5 for Joomla//EN
BEGIN:VEVENT
UID:c4d0ccf01ec95468a0a6fa54116d8ec3
CATEGORIES:Δημοπρασίες
SUMMARY:ΣΧΕΔΙΟ ΕΝΕΡΓ.ΑΝΑΒΑΘΜ...2ΟΥ ΛΥΚΕΙΟΥ ΚΑΡΔΙΤΣΑΣ
LOCATION:ΔΗΜΟΣ ΚΑΡΔΙΤΣΑΣ
DESCRIPTION;ENCODING=QUOTED-PRINTABLE:\n\nΣΧΕΔΙΟ ΕΝΕΡΓΕΙΑΚΗΣ ΑΝΑΒΑΘΜΙΣΗΣ ΚΑΙ ΕΞ
 ΙΚΟΝΟΜΗΣΗΣ ΕΝΕΡΓΕΙΑΣ ΣΤΟ ΥΦΙΣΤΑΜΕΝΟ ΣΧΟ
 ΛΙΚΟ ΚΤΙΡΙΟ ΤΟΥ 2ΟΥ - 5ΟΥ ΓΥΜΝΑΣΙΟΥ-2ΟΥ ΛΥΚ
 ΙΟΥ ΚΑΡΔΙΤΣΑΣ\n
CONTACT:24413-54802
X-EXTRAINFO:ΠΡΟΫΠΟΛΟΓΙΣΜΟΣ: 1.264.325,65 ΕΥΡΩ
ΠΤΥΧΙΑ: ΟΙΚ, ΗΛΜ
DTSTAMP:20260423T062157
DTSTART:20200512T150000
DTEND:20200512T150000
SEQUENCE:0
TRANSP:OPAQUE
END:VEVENT
END:VCALENDAR