BEGIN:VCALENDAR
VERSION:2.0
PRODID:-//jEvents 1.5 for Joomla//EN
BEGIN:VEVENT
UID:969474584ff39540684b66bd4fa2a51c
CATEGORIES:Δημοπρασίες
SUMMARY:ΣΥΝΤΗΡ.ΕΠΕΚΤ.ΟΔΙΚΟΥ ΗΛΕΚΤΡ/ΣΜΟΥ...
LOCATION:Δ.Τ.Ε.Π.Ε. ΚΑΡΔΙΤΣΑΣ
DESCRIPTION;ENCODING=QUOTED-PRINTABLE:\n\nΣΥΝΤΗΡΗΣΗ ΕΠΕΚΤΑΣΗ ΟΔΙΚΟΥ ΗΛΕΚΤΡΟΦΩΤΙ
 ΣΜΟΥ ΠΕ ΚΑΡΔΙΤΣΑΣ 2019-2020\n
CONTACT:24410-54903
X-EXTRAINFO:ΠΡΟΫΠΟΛΟΓΙΣΜΟΣ: 400.000 ΕΥΡΩ
ΠΤΥΧΙΑ: 1Η ΗΛΜ
DTSTAMP:20260423T100248
DTSTART:20200331T100000
DTEND:20200331T100000
SEQUENCE:0
TRANSP:OPAQUE
END:VEVENT
END:VCALENDAR