BEGIN:VCALENDAR
VERSION:2.0
PRODID:-//jEvents 1.5 for Joomla//EN
BEGIN:VEVENT
UID:220c14a8a6d5ef5e79cf981f122dad6c
CATEGORIES:Δημοπρασίες
SUMMARY:ΣΥΝΤΗΡ.ΔΗΜΟΤ.ΚΤΙΡΙΩΝ
LOCATION:ΔΗΜΟΣ ΠΑΛΑΜΑ
DESCRIPTION;ENCODING=QUOTED-PRINTABLE:\n\nΣΥΝΤΗΡΗΣΗ ΔΗΜΟΤΙΚΩΝ ΚΤΙΡΙΩΝ\n
CONTACT:24443-50141-151-131
X-EXTRAINFO:ΠΡΟΫΠΟΛΟΓΙΣΜΟΣ: 39.998 ΕΥΡΩ
ΠΤΥΧΙΑ:Α1 ΟΙΚ
DTSTAMP:20260425T141809
DTSTART:20200204T100000
DTEND:20200204T100000
SEQUENCE:0
TRANSP:OPAQUE
END:VEVENT
END:VCALENDAR