BEGIN:VCALENDAR
VERSION:2.0
PRODID:-//jEvents 1.5 for Joomla//EN
BEGIN:VEVENT
UID:46934bbd293976387a78b30741a240d6
CATEGORIES:Δημοπρασίες
SUMMARY:ΑΠΟΚΑΤ.ΚΑΤΟΛΙΣΘ....ΝΕΡΑΙΔΑ
LOCATION:Δ.Τ.Ε.Π.Ε. ΚΑΡΔΙΤΣΑΣ
DESCRIPTION;ENCODING=QUOTED-PRINTABLE:ΑΠΟΚΑΤΑΣΤΑΣΗ ΚΑΤΟΛΙΣΘΗΣΕΩΝ ΕΠ.Ο.6 ΤΜΗΜΑ Σ
 ΑΡΑΝΤΑΠΟΡΟ-ΝΕΡΑΙΔΑ
CONTACT:24413-54903
X-EXTRAINFO:ΠΡΟΫΠΟΛΟΓΙΣΜΟΣ: 981.000 ΕΥΡΩ
ΠΤΥΧΙΑ: 2Η ΟΔΟ
DTSTAMP:20260425T141810
DTSTART:20200211T100000
DTEND:20200211T100000
SEQUENCE:0
TRANSP:OPAQUE
END:VEVENT
END:VCALENDAR