BEGIN:VCALENDAR
VERSION:2.0
PRODID:-//jEvents 1.5 for Joomla//EN
BEGIN:VEVENT
UID:6840638cd6fdea070f8122101cbc2c2f
CATEGORIES:Δημοπρασίες
SUMMARY:ΚΑΤΑΣΚ.ΟΔΟΥ ΝΕΡΑΙΔΑ...
LOCATION:Δ.Τ.Ε.Π.Ε. ΚΑΡΔΙΤΣΑΣ
DESCRIPTION;ENCODING=QUOTED-PRINTABLE:\n\nΚΑΤΑΣΚΕΥΗ ΟΔΟΥ ΝΕΡΑΙΔΑ-ΤΡΙΦΥΛΛΑ (Γ' ΕΡΓ
 ΟΛΑΒΙΑ)\n
CONTACT:24410-54903
X-EXTRAINFO:ΠΡΟΫΠΟΛΟΓΙΣΜΟΣ: 1.000.000 ΕΥΡΩ
ΠΤΥΧΙΑ: 2Η ΟΔΟ
DTSTAMP:20260423T134644
DTSTART:20200121T100000
DTEND:20200121T100000
SEQUENCE:0
TRANSP:OPAQUE
END:VEVENT
END:VCALENDAR