BEGIN:VCALENDAR
VERSION:2.0
PRODID:-//jEvents 1.5 for Joomla//EN
BEGIN:VEVENT
UID:241b26172b8c33b1dc7b94b470d75fdd
CATEGORIES:Δημοπρασίες
SUMMARY:ΚΑΤΑΣΚ.& ΚΑΘΑΡ.ΤΕΧΝ....
LOCATION:Δ.Τ.Ε.Π.Ε. ΚΑΡΔΙΤΣΑΣ
DESCRIPTION;ENCODING=QUOTED-PRINTABLE:\n\nΚΑΤΑΣΚΕΥΗ ΚΑΙ ΚΑΘΑΡΙΣΜΟΣ ΤΕΧΝΙΚΩΝ ΟΔΙ
 ΟΥ ΔΙΚΤΥΟΥ ΠΕ ΚΑΡΔΙΤΣΑΣ 2019-2020\n
CONTACT:24410-54903
X-EXTRAINFO:ΠΡΟΫΠΟΛΟΓΙΣΜΟΣ: 500.000 ΕΥΡΩ
ΠΤΥΧΙΑ: 1Η ΟΔΟ
DTSTAMP:20260423T134536
DTSTART:20200116T100000
DTEND:20200116T100000
SEQUENCE:0
TRANSP:OPAQUE
END:VEVENT
END:VCALENDAR