BEGIN:VCALENDAR
VERSION:2.0
PRODID:-//jEvents 1.5 for Joomla//EN
BEGIN:VEVENT
UID:e576b48ea559ea05a8d24313752b6557
CATEGORIES:Δημοπρασίες
SUMMARY:ΚΑΤΑΣΚ.ΥΠΟΔ.ΟΡΕΙΝΩΝ....ΜΟΥΖΑΚΙΟΥ
LOCATION:ΔΗΜΟΣ ΜΟΥΖΑΚΙΟΥ
DESCRIPTION;ENCODING=QUOTED-PRINTABLE:\n\nΚΑΤΑΣΚΕΥΗ ΥΠΟΔΟΜΩΝ ΟΡΕΙΝΩΝ ΟΙΚΙΣΜΩΝ Δ.
 Ε. ΜΟΥΖΑΚΙΟΥ\n
CONTACT:24453-50124
X-EXTRAINFO:ΠΡΟΫΠΟΛΟΓΙΣΜΟΣ: 80.121,75 ΕΥΡΩ
ΠΤΥΧΙΑ: ΟΙΚ, ΟΔΟ
DTSTAMP:20260423T134607
DTSTART:20200114T140000
DTEND:20200114T140000
SEQUENCE:0
TRANSP:OPAQUE
END:VEVENT
END:VCALENDAR