BEGIN:VCALENDAR
VERSION:2.0
PRODID:-//jEvents 1.5 for Joomla//EN
BEGIN:VEVENT
UID:549e1eda0392946bdb9b67b474819438
CATEGORIES:Δημοπρασίες
SUMMARY:ΑΓΡΟΤ.ΟΔΟΠΟΙΙΑ ΔΕ ΑΡΝΗΣ
LOCATION:ΔΗΜΟΣ ΣΟΦΑΔΩΝ
DESCRIPTION;ENCODING=QUOTED-PRINTABLE:\n\nΑΓΡΟΤΙΚΗ ΟΔΟΠΟΙΙΑ Δ.Ε. ΑΡΝΗΣ\n
CONTACT:2443-353229
X-EXTRAINFO:ΠΡΟΫΠΟΛΟΓΙΣΜΟΣ: 394.000 ΕΥΡΩ
ΠΤΥΧΙΑ: ΟΔΟ
DTSTAMP:20260423T135700
DTSTART:20200127T130000
DTEND:20200127T130000
SEQUENCE:0
TRANSP:OPAQUE
END:VEVENT
END:VCALENDAR