BEGIN:VCALENDAR
VERSION:2.0
PRODID:-//jEvents 1.5 for Joomla//EN
BEGIN:VEVENT
UID:f846c5b49d93d3be978c324105b50a7c
CATEGORIES:Δημοπρασίες
SUMMARY:ΒΕΛΤ.ΑΓΡΟΤ.ΟΔΟΠΟΙΙΑΣ...ΟΞΥΑΣ
LOCATION:ΔΗΜΟΣ ΜΟΥΖΑΚΙΟΥ
DESCRIPTION;ENCODING=QUOTED-PRINTABLE:\n\nΒΕΛΤΙΩΣΗ ΑΓΡΟΤΙΚΗΣ ΟΔΟΠΟΙΙΑΣ ΟΔΟΥ Τ.Κ. 
 ΟΞΥΑΣ\n
CONTACT:24453-50123
X-EXTRAINFO:ΠΡΟΫΠΟΛΟΓΙΣΜΟΣ: 500.000 ΕΥΡΩ
ΠΤΥΧΙΑ: ΟΔΟ

DTSTAMP:20260423T135649
DTSTART:20200113T020000
DTEND:20200113T020000
SEQUENCE:0
TRANSP:OPAQUE
END:VEVENT
END:VCALENDAR