BEGIN:VCALENDAR
VERSION:2.0
PRODID:-//jEvents 1.5 for Joomla//EN
BEGIN:VEVENT
UID:66cbfbbe50b8e1067a6ae381d635abbc
CATEGORIES:Δημοπρασίες
SUMMARY:ΣΥΝΔ.ΕΠΙΧ/ΣΕΩΝ...ΚΑΡΔΙΤΣΑΣ
LOCATION:Δ.Τ.Ε.Π.Ε. ΚΑΡΔΙΤΣΑΣ
DESCRIPTION;ENCODING=QUOTED-PRINTABLE:\n\nΣΥΝΔΕΣΗ ΕΠΙΧΕΙΡΗΣΕΩΝ ΜΕ ΤΟ ΟΔΙΚΟ ΔΙΚΤΥ
 Ο ΠΕ ΚΑΡΔΙΤΣΑΣ\n
CONTACT:24410-54903
X-EXTRAINFO:ΠΡΟΫΠΟΛΟΓΙΣΜΟΣ: 200.000 ΕΥΡΩ
ΠΤΥΧΙΑ: Α2 ΟΔΟ
DTSTAMP:20260425T012444
DTSTART:20191128T100000
DTEND:20191128T100000
SEQUENCE:0
TRANSP:OPAQUE
END:VEVENT
END:VCALENDAR