BEGIN:VCALENDAR
VERSION:2.0
PRODID:-//jEvents 1.5 for Joomla//EN
BEGIN:VEVENT
UID:9ff12ef1ccd7c98f88359685bb5f185d
CATEGORIES:Δημοπρασίες
SUMMARY:ΟΛΟΚΛ.ΕΡΓΑΣ.ΤΣΙΜΕΝΤΟΣΤΡ...ΣΠΗΛΙΑ
LOCATION:Δ.Τ.Ε.Π.Ε. ΚΑΡΔΙΤΣΑΣ
DESCRIPTION;ENCODING=QUOTED-PRINTABLE:\n\nΟΛΟΚΛΗΡΩΣΗ ΕΡΓΑΣΙΩΝ ΤΣΙΜΕΝΤΟΣΤΡΩΣΗΣ Σ
 ΤΟ ΔΡΟΜΟ ΠΡΟΣ Ι.Μ. ΣΠΗΛΙΑΣ\n
CONTACT:24410-54903
X-EXTRAINFO:ΠΡΟΫΠΟΛΟΓΙΣΜΟΣ: 74.000 ΕΥΡΩ
ΠΤΥΧΙΑ: Α1 ΟΔΟ

DTSTAMP:20260425T012313
DTSTART:20191121T100000
DTEND:20191121T100000
SEQUENCE:0
TRANSP:OPAQUE
END:VEVENT
END:VCALENDAR