BEGIN:VCALENDAR
VERSION:2.0
PRODID:-//jEvents 1.5 for Joomla//EN
BEGIN:VEVENT
UID:163d6edc7a4f83244a1ea783115a3edb
CATEGORIES:Δημοπρασίες
SUMMARY:ΑΝΑΚΑΤ.ΧΛΟΟΤΑΠΗΤΑ...ΣΟΦΑΔΩΝ
LOCATION:ΔΗΜΟΣ ΣΟΦΑΔΩΝ
DESCRIPTION;ENCODING=QUOTED-PRINTABLE:\n\nΑΝΑΚΑΤΑΣΚΕΥΗ ΧΛΟΟΤΑΠΗΤΑ ΔΗΜΟΤΙΚΟΥ ΣΤΑ
 ΔΙΟΥ ΔΚ ΣΟΦΑΔΩΝ\n
CONTACT:2443-353229
X-EXTRAINFO:ΠΡΟΫΠΟΛΟΓΙΣΜΟΣ: 120.000 ΕΥΡΩ
ΠΤΥΧΙΑ: ΠΡΑΣ

DTSTAMP:20260423T153348
DTSTART:20191202T130000
DTEND:20191202T130000
SEQUENCE:0
TRANSP:OPAQUE
END:VEVENT
END:VCALENDAR