BEGIN:VCALENDAR
VERSION:2.0
PRODID:-//jEvents 1.5 for Joomla//EN
BEGIN:VEVENT
UID:5f60050c801f90c107fa5a29ba6cfc72
CATEGORIES:Δημοπρασίες
SUMMARY:ΤΣΙΜΕΝΤ.Δ.Κ. ΣΟΦΑΔΩΝ
LOCATION:ΔΗΜΟΣ ΣΟΦΑΔΩΝ
DESCRIPTION;ENCODING=QUOTED-PRINTABLE:\n\nΤΣΙΜΕΝΤΟΣΤΡΩΣΕΙΣ Δ.Κ. ΣΟΦΑΔΩΝ\n
CONTACT:2443-353229
X-EXTRAINFO:ΠΡΟΫΠΟΛΟΓΙΣΜΟΣ: 100.000 ΕΥΡΩ
ΠΤΥΧΙΑ: ΟΔΟ
DTSTAMP:20260425T012312
DTSTART:20191118T130000
DTEND:20191118T130000
SEQUENCE:0
TRANSP:OPAQUE
END:VEVENT
END:VCALENDAR