BEGIN:VCALENDAR
VERSION:2.0
PRODID:-//jEvents 1.5 for Joomla//EN
BEGIN:VEVENT
UID:3f6cb8f09b3abc5b9b1b2d89a6f6a263
CATEGORIES:Δημοπρασίες
SUMMARY:ΑΤΝΙΚΑΤ.ΑΡΔΕΥΤ.ΓΕΩΤΡ...
LOCATION:ΔΗΜΟΣ ΠΑΛΑΜΑ
DESCRIPTION;ENCODING=QUOTED-PRINTABLE:\n\nΑΝΤΙΚΑΤΑΣΤΑΣΗ ΑΡΔΕΥΤΙΚΩΝ ΓΕΩΤΡΗΣΕΩΝ Δ
 .Ε. ΦΥΛΛΟΥ\n
CONTACT:24443-50141-151-131
X-EXTRAINFO:ΠΡΟΫΠΟΛΟΓΙΣΜΟΣ: 74.000 ΕΥΡΩ

DTSTAMP:20260425T012402
DTSTART:20191105T100000
DTEND:20191105T100000
SEQUENCE:0
TRANSP:OPAQUE
END:VEVENT
END:VCALENDAR