BEGIN:VCALENDAR
VERSION:2.0
PRODID:-//jEvents 1.5 for Joomla//EN
BEGIN:VEVENT
UID:7fa0a879cd22324ed6827afcf488ff55
CATEGORIES:Δημοπρασίες
SUMMARY:ΒΕΛΤ.ΥΠΟΔΟΜΩΝ ΔΗΜ.ΣΟΦΑΔΩΝ ΙΙ
LOCATION:ΔΗΜΟΣ ΣΟΦΑΔΩΝ
DESCRIPTION;ENCODING=QUOTED-PRINTABLE:\n\nΒΕΛΤΙΩΣΗ ΥΠΟΔΟΜΩΝ ΔΗΜΟΥ ΣΟΦΑΔΩΝ ΙΙ\n
CONTACT:2443-353229
X-EXTRAINFO:ΠΡΟΫΠΟΛΟΓΙΣΜΟΣ: 200.000 ΕΥΡΩ
ΠΤΥΧΙΑ: ΟΔΟ
DTSTAMP:20260425T024951
DTSTART:20191029T130000
DTEND:20191029T130000
SEQUENCE:0
TRANSP:OPAQUE
END:VEVENT
END:VCALENDAR