BEGIN:VCALENDAR
VERSION:2.0
PRODID:-//jEvents 1.5 for Joomla//EN
BEGIN:VEVENT
UID:f60f2d195e6c1a47850f571685e70378
CATEGORIES:Δημοπρασίες
SUMMARY:ΑΝΑΠΤΥΞΗ ΒΑΣΙΚΩΝ ΔΙΚΤΥΩΝ...
LOCATION:ΔΗΜΟΣ ΚΑΡΔΙΤΣΑΣ
DESCRIPTION;ENCODING=QUOTED-PRINTABLE:\n\nΑΝΑΠΤΥΞΗ ΒΑΣΙΚΩΝ ΔΙΚΤΥΩΝ ΣΤΟΝ ΟΙΚΙΣΜΟ 
 ΜΑΥΡΙΚΑ ΚΑΡΔΙΤΣΑΣ (Β' ΦΑΣΗ)\n
CONTACT:24413-54802
X-EXTRAINFO:ΠΡΟΫΠΟΛΟΓΙΣΜΟΣ: 700.000 ΕΥΡΩ
ΠΤΥΧΙΑ: 1Η ΟΔΟ 
DTSTAMP:20260425T041002
DTSTART:20190925T150000
DTEND:20190925T150000
SEQUENCE:0
TRANSP:OPAQUE
END:VEVENT
END:VCALENDAR