BEGIN:VCALENDAR
VERSION:2.0
PRODID:-//jEvents 1.5 for Joomla//EN
BEGIN:VEVENT
UID:cceab45336d2e889726bba1531846c1a
CATEGORIES:Δημοπρασίες
SUMMARY:ΔΙΑΝΟΙΞΗ-ΣΥΝΤΗΡΗΣΗ...ΔΑΣΑΡΧ.ΚΑΡΔΙΤΣΑΣ..
LOCATION:ΔΑΣΑΡΧΕΙΟ ΚΑΡΔΙΤΣΑΣ
DESCRIPTION;ENCODING=QUOTED-PRINTABLE:\n\nΔΙΑΝΟΙΞΗ-ΣΥΝΤΗΡΗΣΗ-ΒΕΛΤΙΩΣΗ-ΑΣΦΑΛΤΟΣΤ
 ΡΩΣΗ ΔΑΣΙΚΟΥ ΟΔΙΚΟΥ ΔΙΚΤΥΟΥ ΔΗΜΟΣΙΟΥ ΔΑΣ
 ΙΚΟΥ ΣΥΜΠΛΕΓΜΑΤΟΣ ΑΓΡΑΦΩΝ ΠΕΡΙΟΧΗΣ ΔΑΣΑ
 ΧΕΙΟΥ ΚΑΡΔΙΤΣΑΣ ΕΤΟΥΣ 2019\n
CONTACT:24410-79857-79861
X-EXTRAINFO:ΠΡΟΫΠΟΛΟΓΙΣΜΟΣ: 8.153,59 ΕΥΡΩ
ΠΤΥΧΙΑ: Α1 ΠΡΑΣ,ΟΔΟ
DTSTAMP:20260425T024950
DTSTART:20191001T120000
DTEND:20191001T120000
SEQUENCE:0
TRANSP:OPAQUE
END:VEVENT
END:VCALENDAR