BEGIN:VCALENDAR
VERSION:2.0
PRODID:-//jEvents 1.5 for Joomla//EN
BEGIN:VEVENT
UID:babaed06705d026140d4f540a1e4c97f
CATEGORIES:Δημοπρασίες
SUMMARY:ΒΕΛΤ.ΒΑΤΟΤΗΤΑΣ ΔΗΜ.ΔΑΣΙΚΟΥ...
LOCATION:ΔΑΣΑΡΧΕΙΟ ΚΑΡΔΙΤΣΑΣ
DESCRIPTION;ENCODING=QUOTED-PRINTABLE:\n\nΒΕΛΤΙΩΣΗ ΒΑΤΟΤΗΤΑΣ ΔΗΜΟΣΙΟΥ ΔΑΣΙΚΟΥ Ο
 ΙΚΟΥ ΔΙΚΤΥΟΥ ΚΑΝΑΛΙΩΝ-ΦΑΝΑΡΙΟΥ/ΑΧΛΑΔΙΑΣ
 -ΛΕΟΝΤΑΡΙΟΥ-ΑΣΗΜΟΧΩΡΙΟΥ ΤΟΥ ΔΑΣΑΡΧΕΙΟΥ Κ
 ΑΡΔΙΤΣΑΣ ΕΤΟΥΣ 2019\n
CONTACT:24410-79857-79861
X-EXTRAINFO:ΠΡΟΫΠΟΛΟΓΙΣΜΟΣ: 6.692,03 ΕΥΡΩ
ΠΤΥΧΙΑ: Α1 ΠΡΑΣ

DTSTAMP:20260425T042604
DTSTART:20190917T100000
DTEND:20190917T100000
SEQUENCE:0
TRANSP:OPAQUE
END:VEVENT
END:VCALENDAR