BEGIN:VCALENDAR
VERSION:2.0
PRODID:-//jEvents 1.5 for Joomla//EN
BEGIN:VEVENT
UID:0c0cb4d18fec8a2fda97520d9908508c
CATEGORIES:Δημοπρασίες
SUMMARY:ΔΙΑΝΟΙΞΕΙΣ ΔΡΟΜΩΝ ΣΤΗΝ ΤΚ ΑΝΘΗΡΟΥ...
LOCATION:ΔΗΜΟΣ ΑΡΓΙΘΕΑΣ
DESCRIPTION;ENCODING=QUOTED-PRINTABLE:ΔΙΑΝΟΙΞΕΙΣ ΔΡΟΜΩΝ ΣΤΗΝ ΤΚ ΑΝΘΗΡΟΥ ΔΗΜΟΥ 
 ΡΓΙΘΕΑΣ
CONTACT:24453-50410
X-EXTRAINFO:ΠΡΟΫΠΟΛΟΓΙΣΜΟΣ: 74.000 ΕΥΡΩ
ΠΤΥΧΙΑ: Α1 ΟΔΟ

DTSTAMP:20260422T002733
DTSTART:20210916T100000
DTEND:20210916T100000
SEQUENCE:0
TRANSP:OPAQUE
END:VEVENT
END:VCALENDAR