BEGIN:VCALENDAR
VERSION:2.0
PRODID:-//jEvents 1.5 for Joomla//EN
BEGIN:VEVENT
UID:0d577eaa3aab448ab851b0bea6fabcc8
CATEGORIES:Δημοπρασίες
SUMMARY:ΑΠΟΚΑΤ.ΖΗΜΙΩΝ ΣΕ ΠΕΖΟΔΡΟΜΙΑ...
LOCATION:ΔΗΜΟΣ ΚΑΡΔΙΤΣΑΣ
DESCRIPTION;ENCODING=QUOTED-PRINTABLE:\n\nΑΠΟΚΑΤΑΣΤΑΣΗ ΖΗΜΙΩΝ ΣΕ ΠΕΖΟΔΡΟΜΙΑ ΚΑΙ 
 ΚΟΙΝΟΧΡΗΣΤΟΥΣ ΧΩΡΟΥΣ ΣΤΗΝ ΠΟΛΗ ΤΗΣ ΚΑΡΔΙ
 ΤΣΑΣ ΛΟΓΩ ΤΗΣ ΘΕΟΜΗΝΙΑΣ ΤΗΣ 18ΗΣ ΚΑΙ 19ΗΣ Σ
 ΠΤΕΜΒΡΙΟΥ 2020\n
CONTACT:24413-54877
X-EXTRAINFO:ΠΡΟΫΠΟΛΟΓΙΣΜΟΣ: 3.815.000 ΕΥΡΩ
ΠΤΥΧΙΑ: ΟΔΟ
DTSTAMP:20260422T002727
DTSTART:20210921T150000
DTEND:20210921T150000
SEQUENCE:0
TRANSP:OPAQUE
END:VEVENT
END:VCALENDAR