BEGIN:VCALENDAR
VERSION:2.0
PRODID:-//jEvents 1.5 for Joomla//EN
BEGIN:VEVENT
UID:0069a4e1a1e3956c4049cdff4f23f8f6
CATEGORIES:Δημοπρασίες
SUMMARY:ΑΝΤΙΠΥΡΙΚΗ ΠΡΟΣΤΑΣΙΑ...ΔΑΣΙΚΩΝ ΔΡΟΜΩΝ
LOCATION:ΔΑΣΑΡΧΕΙΟ ΜΟΥΖΑΚΙΟΥ
DESCRIPTION;ENCODING=QUOTED-PRINTABLE:\n\nΑΝΤΙΠΥΡΙΚΗ ΠΡΟΣΤΑΣΙΑ ΔΗΜΟΣΙΩΝ ΔΑΣΩΝ Κ
 Ι ΔΑΣΙΚΩΝ ΕΚΤΑΣΕΩΝ ΔΙΑΝΟΙΞΗ - ΒΕΛΤΙΩΣΗ - 
 ΥΝΤΗΡΗΣΗ - ΑΣΦΑΛΤΟΣΤΡΩΣΗ ΔΑΣΙΚΩΝ ΔΡΟΜΩΝ\
 n
CONTACT:24450-49157
X-EXTRAINFO:ΠΡΟΫΠΟΛΟΓΙΣΜΟΣ: 8.925,94
ΠΤΥΧΙΑ: Α1 ΠΡΑΣ
DTSTAMP:20260422T034018
DTSTART:20210720T100000
DTEND:20210720T100000
SEQUENCE:0
TRANSP:OPAQUE
END:VEVENT
END:VCALENDAR