BEGIN:VCALENDAR
VERSION:2.0
PRODID:-//jEvents 1.5 for Joomla//EN
BEGIN:VEVENT
UID:82f80c386c2fec4283bbabbb08efde02
CATEGORIES:Δημοπρασίες
SUMMARY:ΒΕΛΤ.ΑΘΛΗΤ.ΕΓΚΑΤ.ΔΗΜΟΥ ΜΟΥΖΑΚΙΟΥ
LOCATION:ΔΗΜΟΣ ΜΟΥΖΑΚΙΟΥ
DESCRIPTION;ENCODING=QUOTED-PRINTABLE:\n\nΒΕΛΤΙΩΣΗ ΑΘΛΗΤΙΚΩΝ ΕΓΚΑΤΑΣΤΑΣΕΩΝ ΔΗΜΟ
 Υ ΜΟΥΖΑΚΙΟΥ\n
CONTACT:24453-50121
X-EXTRAINFO:ΠΡΟΫΠΟΛΟΓΙΣΜΟΣ: 917.500 ΕΥΡΩ
ΠΤΥΧΙΑ: ΟΙΚ

DTSTAMP:20260422T034018
DTSTART:20210719T140000
DTEND:20210719T140000
SEQUENCE:0
TRANSP:OPAQUE
END:VEVENT
END:VCALENDAR