BEGIN:VCALENDAR
VERSION:2.0
PRODID:-//jEvents 1.5 for Joomla//EN
BEGIN:VEVENT
UID:ab9a86d3966a6ad6d13047ebb2642e7c
CATEGORIES:Δημοπρασίες
SUMMARY:ΣΥΝΤΗΡ.-ΒΕΛΤ.ΔΑΣΙΚΩΝ ΕΡΓΩΝ ΟΔΟΠ...
LOCATION:ΔΑΣΑΡΧΕΙΟ ΜΟΥΖΑΚΙΟΥ
DESCRIPTION;ENCODING=QUOTED-PRINTABLE:\n\nΣΥΝΤΗΡΗΣΗ-ΒΕΛΤΙΩΣΗ ΔΑΣΙΚΩΝ ΕΡΓΩΝ ΟΔΟΠ
 ΙΙΑΣ ΣΤΑ ΔΗΜΟΣΙΑ ΔΑΣΗ ΤΟΥ ΔΑΣΑΡΧΕΙΟΥ ΜΟΥ
 ΖΑΚΙΟΥ\n
CONTACT:24450-49157
X-EXTRAINFO:ΠΡΟΫΠΟΛΟΓΙΣΜΟΣ: 9.925,46 ΕΥΡΩ
ΠΡΥΧΙΑ: Α1 ΠΡΑΣ

DTSTAMP:20260422T050805
DTSTART:20210615T100000
DTEND:20210615T100000
SEQUENCE:0
TRANSP:OPAQUE
END:VEVENT
END:VCALENDAR