BEGIN:VCALENDAR
VERSION:2.0
PRODID:-//jEvents 1.5 for Joomla//EN
BEGIN:VEVENT
UID:9d38b7df50b3550afc3cfa063b6ce6d0
CATEGORIES:Δημοπρασίες
SUMMARY:ΟΛΟΚΛ.ΕΡΓΑΣΙΩΝ....ΔΗΜΟΥ ΑΡΓΙΘΕΑΣ
LOCATION:ΔΗΜΟΣ ΑΡΓΙΘΕΑΣ
DESCRIPTION;ENCODING=QUOTED-PRINTABLE:\n\nΟΛΟΚΛΗΡΩΣΗ ΕΡΓΑΣΙΩΝ ΑΠΟΚΑΤΑΣΤΑΣΗΣ ΖΗΜ
 ΙΩΝ ΣΤΟ ΟΔΙΚΟ ΔΙΚΤΥΟ ΔΗΜΟΥ ΑΡΓΙΘΕΑΣ\n
CONTACT:24453-50410
X-EXTRAINFO:ΠΡΟΫΠΟΛΟΓΙΣΜΟΣ: 22.260 ΕΥΡΩ
ΠΤΥΧΙΑ: ΟΔΟ
DTSTAMP:20260422T050805
DTSTART:20210616T150000
DTEND:20210616T150000
SEQUENCE:0
TRANSP:OPAQUE
END:VEVENT
END:VCALENDAR